BEGIN:VCALENDAR
VERSION:2.0
PRODID:-//wp-events-plugin.com//6.6.1//EN
TZID:Europe/Paris
X-WR-TIMEZONE:Europe/Paris
BEGIN:VEVENT
UID:225@csbe.fr
DTSTART;TZID=Europe/Paris:20260310T000000
DTEND;TZID=Europe/Paris:20260310T003000
DTSTAMP:20260309T165251Z
URL:https://csbe.fr/events/test-inscription-2026/
SUMMARY:Test inscription 2026
DESCRIPTION:	- RDV au local ==&gt\; 10h00\n	- RDV au port ==&gt\;  10h00\n\
 nPlongée prévue en ria. Cette plongée est ouverte à tous les niveaux (
 sous réserve d'avoir assez de participant).\n\n\n						
CATEGORIES:Plongée Formation
END:VEVENT
BEGIN:VTIMEZONE
TZID:Europe/Paris
X-LIC-LOCATION:Europe/Paris
BEGIN:STANDARD
DTSTART:20251026T020000
TZOFFSETFROM:+0200
TZOFFSETTO:+0100
TZNAME:CET
END:STANDARD
END:VTIMEZONE
END:VCALENDAR