BEGIN:VCALENDAR
VERSION:2.0
PRODID:-//wp-events-plugin.com//6.6.1//EN
TZID:Europe/Paris
X-WR-TIMEZONE:Europe/Paris
BEGIN:VEVENT
UID:192@csbe.fr
DTSTART;TZID=Europe/Paris:20250508T160000
DTEND;TZID=Europe/Paris:20250508T190000
DTSTAMP:20250508T085009Z
URL:https://csbe.fr/events/sortie-rifap/
SUMMARY:Sortie RIFAP + Plongée NIV1
DESCRIPTION:\n 	RDV au local : 15h30\n 	RDV au port : 16h\n 	Mise à l'eau 
 : 16h30\n\nSortie en Ria pour le Rifap. Réservée aux stagiaires RIFAP et
  à ceux qui le détiennent et souhaite un recyclage (10€).\nil n’y au
 ra pas de plongée pour le RIFAP \, uniquement des exercices dans l’eau 
 en capelé et sur le bateau.\n\nEn parallèle\, sortie encadrée pourt les
  préparants N1 et N2.\n\nListe des personnes inscrites
CATEGORIES:Plongée Formation,Plongée Ria
END:VEVENT
BEGIN:VTIMEZONE
TZID:Europe/Paris
X-LIC-LOCATION:Europe/Paris
BEGIN:DAYLIGHT
DTSTART:20250330T030000
TZOFFSETFROM:+0100
TZOFFSETTO:+0200
TZNAME:CEST
END:DAYLIGHT
END:VTIMEZONE
END:VCALENDAR