BEGIN:VCALENDAR
VERSION:2.0
PRODID:-//wp-events-plugin.com//6.6.1//EN
TZID:Europe/Paris
X-WR-TIMEZONE:Europe/Paris
BEGIN:VEVENT
UID:208@csbe.fr
DTSTART;TZID=Europe/Paris:20250706T150000
DTEND;TZID=Europe/Paris:20250706T184500
DTSTAMP:20250702T192420Z
URL:https://csbe.fr/events/plongee-ria-tout-niveau/
SUMMARY:Plongee ria tout niveau
DESCRIPTION:	- RDV au local ==&gt\; 15h00\n	- RDV au port ==&gt\; 15h20\n\n
 Plongée prévue en ria. Cette plongée est ouverte à tous les niveaux (s
 ous réserve d'avoir assez de participant).\n\n\n						
CATEGORIES:Plongée Ria
END:VEVENT
BEGIN:VTIMEZONE
TZID:Europe/Paris
X-LIC-LOCATION:Europe/Paris
BEGIN:DAYLIGHT
DTSTART:20250330T030000
TZOFFSETFROM:+0100
TZOFFSETTO:+0200
TZNAME:CEST
END:DAYLIGHT
END:VTIMEZONE
END:VCALENDAR