BEGIN:VCALENDAR
VERSION:2.0
PRODID:-//wp-events-plugin.com//6.6.1//EN
TZID:Europe/Paris
X-WR-TIMEZONE:Europe/Paris
BEGIN:VEVENT
UID:60@csbe.fr
DTSTART;TZID=Europe/Paris:20220709T131500
DTEND;TZID=Europe/Paris:20220709T181500
DTSTAMP:20220628T093212Z
URL:https://csbe.fr/events/plongee-ria-ou-mer/
SUMMARY:Plongée Ria ou Mer
DESCRIPTION:RDV Local : 13h15\n\nRDV Port : 13h45
CATEGORIES:Plongée Mer,Plongée Ria
END:VEVENT
BEGIN:VTIMEZONE
TZID:Europe/Paris
X-LIC-LOCATION:Europe/Paris
BEGIN:DAYLIGHT
DTSTART:20220327T030000
TZOFFSETFROM:+0100
TZOFFSETTO:+0200
TZNAME:CEST
END:DAYLIGHT
END:VTIMEZONE
END:VCALENDAR