BEGIN:VCALENDAR
VERSION:2.0
PRODID:-//wp-events-plugin.com//6.6.1//EN
TZID:Europe/Paris
X-WR-TIMEZONE:Europe/Paris
BEGIN:VEVENT
UID:40@csbe.fr
DTSTART;TZID=Europe/Paris:20210912T084500
DTEND;TZID=Europe/Paris:20210912T124500
DTSTAMP:20210910T184254Z
URL:https://csbe.fr/events/plongee-ria-coef-83/
SUMMARY:Plongee ria - coef 83
DESCRIPTION:Plongee de derniere minute pour boen finir la saison
CATEGORIES:Plongée Ria
END:VEVENT
BEGIN:VTIMEZONE
TZID:Europe/Paris
X-LIC-LOCATION:Europe/Paris
BEGIN:DAYLIGHT
DTSTART:20210328T030000
TZOFFSETFROM:+0100
TZOFFSETTO:+0200
TZNAME:CEST
END:DAYLIGHT
END:VTIMEZONE
END:VCALENDAR