BEGIN:VCALENDAR
VERSION:2.0
PRODID:-//wp-events-plugin.com//6.6.1//EN
TZID:Europe/Paris
X-WR-TIMEZONE:Europe/Paris
BEGIN:VEVENT
UID:113@csbe.fr
DTSTART;TZID=Europe/Paris:20240803T171500
DTEND;TZID=Europe/Paris:20240803T211500
DTSTAMP:20240730T074821Z
URL:https://csbe.fr/events/plongee-ria-coef-71-3/
SUMMARY:Plongée ria (coef 71)
DESCRIPTION:RDV au Local : 17h15\n\nRDV au port : 17H45\n\nPlongée  nivea
 ux 1 selon l'encadrement disponible\n\nListe des personnes inscrites
CATEGORIES:Plongée Ria
END:VEVENT
BEGIN:VTIMEZONE
TZID:Europe/Paris
X-LIC-LOCATION:Europe/Paris
BEGIN:DAYLIGHT
DTSTART:20240331T030000
TZOFFSETFROM:+0100
TZOFFSETTO:+0200
TZNAME:CEST
END:DAYLIGHT
END:VTIMEZONE
END:VCALENDAR