BEGIN:VCALENDAR
VERSION:2.0
PRODID:-//wp-events-plugin.com//6.6.1//EN
TZID:Europe/Paris
X-WR-TIMEZONE:Europe/Paris
BEGIN:VEVENT
UID:194@csbe.fr
DTSTART;TZID=Europe/Paris:20250510T173000
DTEND;TZID=Europe/Paris:20250510T203000
DTSTAMP:20250510T102506Z
URL:https://csbe.fr/events/plongee-ria-coef-71-2/
SUMMARY:Plongée RIA  (coef 71)
DESCRIPTION:RDV au Local : 16h20\n\nRDV au port : 16h45\n\nMise à l'eau : 
 17h15\n\nPlongée de formation pour les Niveaux 2 .\n\nListe des personne
 s inscrites
CATEGORIES:Plongée Formation,Plongée Ria
END:VEVENT
BEGIN:VTIMEZONE
TZID:Europe/Paris
X-LIC-LOCATION:Europe/Paris
BEGIN:DAYLIGHT
DTSTART:20250330T030000
TZOFFSETFROM:+0100
TZOFFSETTO:+0200
TZNAME:CEST
END:DAYLIGHT
END:VTIMEZONE
END:VCALENDAR