BEGIN:VCALENDAR
VERSION:2.0
PRODID:-//wp-events-plugin.com//6.6.1//EN
TZID:Europe/Paris
X-WR-TIMEZONE:Europe/Paris
BEGIN:VEVENT
UID:195@csbe.fr
DTSTART;TZID=Europe/Paris:20250517T083000
DTEND;TZID=Europe/Paris:20250517T113000
DTSTAMP:20250515T084541Z
URL:https://csbe.fr/events/plongee-ria-coef-61/
SUMMARY:Plongée RIA  (coef 61)
DESCRIPTION:RDV au Local : 8h00\n\nRDV au port : 8h30\n\nMise à l'eau :9h0
 0\n\nPlongée de formation pour les Niveaux 2 .\n\nListe des personnes in
 scrites
CATEGORIES:Plongée Formation,Plongée Ria
END:VEVENT
BEGIN:VTIMEZONE
TZID:Europe/Paris
X-LIC-LOCATION:Europe/Paris
BEGIN:DAYLIGHT
DTSTART:20250330T030000
TZOFFSETFROM:+0100
TZOFFSETTO:+0200
TZNAME:CEST
END:DAYLIGHT
END:VTIMEZONE
END:VCALENDAR