BEGIN:VCALENDAR
VERSION:2.0
PRODID:-//wp-events-plugin.com//6.6.1//EN
TZID:Europe/Paris
X-WR-TIMEZONE:Europe/Paris
BEGIN:VEVENT
UID:212@csbe.fr
DTSTART;TZID=Europe/Paris:20250719T120000
DTEND;TZID=Europe/Paris:20250719T160000
DTSTAMP:20250717T114413Z
URL:https://csbe.fr/events/plongee-ria-coef-55/
SUMMARY:Plongée ria coef 55
DESCRIPTION:	- RDV au local ==&gt\; 12H00\n	- RDV au port ==&gt\;  12h30\n\
 nPlongée prévue en ria. Cette plongée est ouverte à tous les niveaux (
 sous réserve d'avoir assez de participant).\n\n\n						
CATEGORIES:Plongée Ria
END:VEVENT
BEGIN:VTIMEZONE
TZID:Europe/Paris
X-LIC-LOCATION:Europe/Paris
BEGIN:DAYLIGHT
DTSTART:20250330T030000
TZOFFSETFROM:+0100
TZOFFSETTO:+0200
TZNAME:CEST
END:DAYLIGHT
END:VTIMEZONE
END:VCALENDAR