BEGIN:VCALENDAR
VERSION:2.0
PRODID:-//wp-events-plugin.com//6.6.1//EN
TZID:Europe/Paris
X-WR-TIMEZONE:Europe/Paris
BEGIN:VEVENT
UID:41@csbe.fr
DTSTART;TZID=Europe/Paris:20210916T000000
DTEND;TZID=Europe/Paris:20210916T000000
DTSTAMP:20210915T101545Z
URL:https://csbe.fr/events/plongee-ria-coef-43-2/
SUMMARY:Plongée RIA (Coef 43)
DESCRIPTION:Plongée en rivière d'Etel sur le site du Magouer 
CATEGORIES:Plongée Ria
END:VEVENT
BEGIN:VTIMEZONE
TZID:Europe/Paris
X-LIC-LOCATION:Europe/Paris
BEGIN:DAYLIGHT
DTSTART:20210328T030000
TZOFFSETFROM:+0100
TZOFFSETTO:+0200
TZNAME:CEST
END:DAYLIGHT
END:VTIMEZONE
END:VCALENDAR