BEGIN:VCALENDAR
VERSION:2.0
PRODID:-//wp-events-plugin.com//6.6.1//EN
TZID:Europe/Paris
X-WR-TIMEZONE:Europe/Paris
BEGIN:VEVENT
UID:218@csbe.fr
DTSTART;TZID=Europe/Paris:20250823T090000
DTEND;TZID=Europe/Paris:20250823T114500
DTSTAMP:20250822T161242Z
URL:https://csbe.fr/events/plongee-ria-7/
SUMMARY:Plongée en mer
DESCRIPTION:Deux plongées prévues en mer sur l’épave au canon suivie d
 u Locqueltas (moins de 20m).\n\nCette plongée est ouverte aux niveaux 3 e
 t au niveaux 2\, sous réserve d'avoir des encadrants.\n\n- RDV au local =
 =&gt\; 8h45\n- RDV au port ==&gt\; 9h00.
CATEGORIES:Plongée Mer
END:VEVENT
BEGIN:VTIMEZONE
TZID:Europe/Paris
X-LIC-LOCATION:Europe/Paris
BEGIN:DAYLIGHT
DTSTART:20250330T030000
TZOFFSETFROM:+0100
TZOFFSETTO:+0200
TZNAME:CEST
END:DAYLIGHT
END:VTIMEZONE
END:VCALENDAR