BEGIN:VCALENDAR
VERSION:2.0
PRODID:-//wp-events-plugin.com//6.6.1//EN
TZID:Europe/Paris
X-WR-TIMEZONE:Europe/Paris
BEGIN:VEVENT
UID:202@csbe.fr
DTSTART;TZID=Europe/Paris:20250614T140000
DTEND;TZID=Europe/Paris:20250614T140000
DTSTAMP:20250611T105112Z
URL:https://csbe.fr/events/plongee-questembert-14-06/
SUMMARY:Plongée questembert 14/06
DESCRIPTION:	- RDV a la carrière à 14h00\n\nPlongée prévue en carrière
 . Cette plongée est ouverte à tous les niveaux (sous réserve d'avoir as
 sez de participant).\n\n\n						
CATEGORIES:Plongée Formation
END:VEVENT
BEGIN:VTIMEZONE
TZID:Europe/Paris
X-LIC-LOCATION:Europe/Paris
BEGIN:DAYLIGHT
DTSTART:20250330T030000
TZOFFSETFROM:+0100
TZOFFSETTO:+0200
TZNAME:CEST
END:DAYLIGHT
END:VTIMEZONE
END:VCALENDAR