BEGIN:VCALENDAR
VERSION:2.0
PRODID:-//wp-events-plugin.com//6.6.1//EN
TZID:Europe/Paris
X-WR-TIMEZONE:Europe/Paris
BEGIN:VEVENT
UID:119@csbe.fr
DTSTART;TZID=Europe/Paris:20240901T123000
DTEND;TZID=Europe/Paris:20240901T163000
DTSTAMP:20240826T071529Z
URL:https://csbe.fr/events/plongee-mer-niveau-2-mini-coef-73/
SUMMARY:Plongée Mer - Niveau 2 mini  (coef 73)
DESCRIPTION:\n\n\nRDV au local\nRDV au port\nMise à l'eau\n\n\n\n\n12H30\n
 12H45\n14H30\n\n\n\nPlongée prévue en mer. Cette plongée est réservé
 e au niveau 2 ou plus.\n\nListe des personnes inscrites
CATEGORIES:Plongée Mer - Niveau 2 minimum
END:VEVENT
BEGIN:VTIMEZONE
TZID:Europe/Paris
X-LIC-LOCATION:Europe/Paris
BEGIN:DAYLIGHT
DTSTART:20240331T030000
TZOFFSETFROM:+0100
TZOFFSETTO:+0200
TZNAME:CEST
END:DAYLIGHT
END:VTIMEZONE
END:VCALENDAR