BEGIN:VCALENDAR
VERSION:2.0
PRODID:-//wp-events-plugin.com//6.6.1//EN
TZID:Europe/Paris
X-WR-TIMEZONE:Europe/Paris
BEGIN:VEVENT
UID:213@csbe.fr
DTSTART;TZID=Europe/Paris:20250726T083000
DTEND;TZID=Europe/Paris:20250726T130000
DTSTAMP:20250725T130214Z
URL:https://csbe.fr/events/plongee-mer-niv2-pontoporos-2/
SUMMARY:Plongée mer niv2 (pontoporos)
DESCRIPTION:- RDV au local ==&gt\;8h00\n- RDV au port ==&gt\; 8h30\n\nPlong
 ée prévue en mer sur le Pontoporos (niv2 minimum).
CATEGORIES:Plongée Mer - Niveau 2 minimum
END:VEVENT
BEGIN:VTIMEZONE
TZID:Europe/Paris
X-LIC-LOCATION:Europe/Paris
BEGIN:DAYLIGHT
DTSTART:20250330T030000
TZOFFSETFROM:+0100
TZOFFSETTO:+0200
TZNAME:CEST
END:DAYLIGHT
END:VTIMEZONE
END:VCALENDAR