BEGIN:VCALENDAR
VERSION:2.0
PRODID:-//wp-events-plugin.com//6.6.1//EN
TZID:Europe/Paris
X-WR-TIMEZONE:Europe/Paris
BEGIN:VEVENT
UID:59@csbe.fr
DTSTART;TZID=Europe/Paris:20220702T083000
DTEND;TZID=Europe/Paris:20220702T133000
DTSTAMP:20220621T081806Z
URL:https://csbe.fr/events/plongee-mer-4/
SUMMARY:Plongée Mer
DESCRIPTION:RDV Local : 08h30\n\nRDV Port : 09h00
CATEGORIES:Plongée Mer
END:VEVENT
BEGIN:VTIMEZONE
TZID:Europe/Paris
X-LIC-LOCATION:Europe/Paris
BEGIN:DAYLIGHT
DTSTART:20220327T030000
TZOFFSETFROM:+0100
TZOFFSETTO:+0200
TZNAME:CEST
END:DAYLIGHT
END:VTIMEZONE
END:VCALENDAR