BEGIN:VCALENDAR
VERSION:2.0
PRODID:-//wp-events-plugin.com//6.6.1//EN
TZID:Europe/Paris
X-WR-TIMEZONE:Europe/Paris
BEGIN:VEVENT
UID:214@csbe.fr
DTSTART;TZID=Europe/Paris:20250727T080000
DTEND;TZID=Europe/Paris:20250727T080000
DTSTAMP:20250719T204237Z
URL:https://csbe.fr/events/plongee-mer-11/
SUMMARY:Plongée mer
DESCRIPTION:	- RDV au local ==&gt\; 7h30\n	- RDV au port ==&gt\; 8h00\n\nPl
 ongée prévue en mer. Cette plongée est ouverte à tous les niveaux (sou
 s réserve d'avoir assez de participant).\n\n\n						
CATEGORIES:Plongée Mer
END:VEVENT
BEGIN:VTIMEZONE
TZID:Europe/Paris
X-LIC-LOCATION:Europe/Paris
BEGIN:DAYLIGHT
DTSTART:20250330T030000
TZOFFSETFROM:+0100
TZOFFSETTO:+0200
TZNAME:CEST
END:DAYLIGHT
END:VTIMEZONE
END:VCALENDAR