BEGIN:VCALENDAR
VERSION:2.0
PRODID:-//wp-events-plugin.com//6.6.1//EN
TZID:Europe/Paris
X-WR-TIMEZONE:Europe/Paris
BEGIN:VEVENT
UID:196@csbe.fr
DTSTART;TZID=Europe/Paris:20250501T083000
DTEND;TZID=Europe/Paris:20250501T130000
DTSTAMP:20250430T123121Z
URL:https://csbe.fr/events/plongee-mer-10/
SUMMARY:Plongée mer
DESCRIPTION:RDV au Local : 8h30\n\nRDV au port : 8h45\n\nMise à l'eau :10h
 00\n\nPlongée mer si le nombre de participants est suffisant et que les c
 onditions le permettre .\n\n\n\n\n
CATEGORIES:Plongée Mer
END:VEVENT
BEGIN:VTIMEZONE
TZID:Europe/Paris
X-LIC-LOCATION:Europe/Paris
BEGIN:DAYLIGHT
DTSTART:20250330T030000
TZOFFSETFROM:+0100
TZOFFSETTO:+0200
TZNAME:CEST
END:DAYLIGHT
END:VTIMEZONE
END:VCALENDAR