BEGIN:VCALENDAR
VERSION:2.0
PRODID:-//wp-events-plugin.com//6.6.1//EN
TZID:Europe/Paris
X-WR-TIMEZONE:Europe/Paris
BEGIN:VEVENT
UID:231@csbe.fr
DTSTART;TZID=Europe/Paris:20260509T100000
DTEND;TZID=Europe/Paris:20260509T140000
DTSTAMP:20260421T102418Z
URL:https://csbe.fr/events/plongee-formation-niveau-1/
SUMMARY:Plongée formation niveau 1
DESCRIPTION:- RDV au local ==&gt\;09h50\n- RDV au port ==&gt\; 10h20\n\nPlo
 ngée prévue en ria. Cette plongée est ouverte aux préparants niveaux 1
 .\nCoeff37 PM10h48
CATEGORIES:Plongée Formation
END:VEVENT
BEGIN:VTIMEZONE
TZID:Europe/Paris
X-LIC-LOCATION:Europe/Paris
BEGIN:DAYLIGHT
DTSTART:20260329T030000
TZOFFSETFROM:+0100
TZOFFSETTO:+0200
TZNAME:CEST
END:DAYLIGHT
END:VTIMEZONE
END:VCALENDAR