BEGIN:VCALENDAR
VERSION:2.0
PRODID:-//wp-events-plugin.com//6.6.1//EN
TZID:Europe/Paris
X-WR-TIMEZONE:Europe/Paris
BEGIN:VEVENT
UID:233@csbe.fr
DTSTART;TZID=Europe/Paris:20260530T163000
DTEND;TZID=Europe/Paris:20260530T190000
DTSTAMP:20260421T102254Z
URL:https://csbe.fr/events/plongee-formation-niveau-1-3/
SUMMARY:Plongée formation niveau 1
DESCRIPTION:	- RDV au local ==&gt\;16h30\n	- RDV au port ==&gt\; 16h50\n\nP
 longée prévue en ria. Cette plongée est ouverte aux préparants niveaux
  1.\nCoeff 70 PM 17h20\n\n\n						
CATEGORIES:Plongée Formation
END:VEVENT
BEGIN:VTIMEZONE
TZID:Europe/Paris
X-LIC-LOCATION:Europe/Paris
BEGIN:DAYLIGHT
DTSTART:20260329T030000
TZOFFSETFROM:+0100
TZOFFSETTO:+0200
TZNAME:CEST
END:DAYLIGHT
END:VTIMEZONE
END:VCALENDAR