BEGIN:VCALENDAR
VERSION:2.0
PRODID:-//wp-events-plugin.com//6.6.1//EN
TZID:Europe/Paris
X-WR-TIMEZONE:Europe/Paris
BEGIN:VEVENT
UID:232@csbe.fr
DTSTART;TZID=Europe/Paris:20260523T103000
DTEND;TZID=Europe/Paris:20260523T133000
DTSTAMP:20260421T101822Z
URL:https://csbe.fr/events/plongee-formation-niveau-1-2/
SUMMARY:Plongée formation niveau 1
DESCRIPTION:	- RDV au local ==&gt\;10h45\n	- RDV au port ==&gt\; 11h15\n\nP
 longée prévue en ria. Cette plongée est ouverte aux préparants niveaux
  1.\nCoeff 55 PM 11h31\n\n						\n	- RDV au local ==&gt\;\n	- RDV au port 
 ==&gt\; \n\nPlongée prévue en ria. Cette plongée est ouverte à tous le
 s niveaux (sous réserve d'avoir assez de participant).\n\n\n						
CATEGORIES:Plongée Formation
END:VEVENT
BEGIN:VTIMEZONE
TZID:Europe/Paris
X-LIC-LOCATION:Europe/Paris
BEGIN:DAYLIGHT
DTSTART:20260329T030000
TZOFFSETFROM:+0100
TZOFFSETTO:+0200
TZNAME:CEST
END:DAYLIGHT
END:VTIMEZONE
END:VCALENDAR