BEGIN:VCALENDAR
VERSION:2.0
PRODID:-//wp-events-plugin.com//6.6.1//EN
TZID:Europe/Paris
X-WR-TIMEZONE:Europe/Paris
BEGIN:VEVENT
UID:230@csbe.fr
DTSTART;TZID=Europe/Paris:20260425T124500
DTEND;TZID=Europe/Paris:20260425T163000
DTSTAMP:20260418T054713Z
URL:https://csbe.fr/events/plongee-formation-n1/
SUMMARY:Plongée formation n1
DESCRIPTION:	- RDV au local ==&gt\;12h45\n	- RDV au port ==&gt\; 13h15\n\nP
 longée prévue en ria. Cette plongée est ouverte en prioritée au pn1 et
  en cadrants .\n\n\n						
CATEGORIES:Plongée Formation
END:VEVENT
BEGIN:VTIMEZONE
TZID:Europe/Paris
X-LIC-LOCATION:Europe/Paris
BEGIN:DAYLIGHT
DTSTART:20260329T030000
TZOFFSETFROM:+0100
TZOFFSETTO:+0200
TZNAME:CEST
END:DAYLIGHT
END:VTIMEZONE
END:VCALENDAR