BEGIN:VCALENDAR
VERSION:2.0
PRODID:-//wp-events-plugin.com//6.6.1//EN
TZID:Europe/Paris
X-WR-TIMEZONE:Europe/Paris
BEGIN:VEVENT
UID:31@csbe.fr
DTSTART;TZID=Europe/Paris:20210815T093000
DTEND;TZID=Europe/Paris:20210815T133000
DTSTAMP:20210804T160825Z
URL:https://csbe.fr/events/plongee-coef-60/
SUMMARY:Plongée ? (coef 60)
DESCRIPTION:
CATEGORIES:Plongée Mer - Niveau 2 minimum
END:VEVENT
BEGIN:VTIMEZONE
TZID:Europe/Paris
X-LIC-LOCATION:Europe/Paris
BEGIN:DAYLIGHT
DTSTART:20210328T030000
TZOFFSETFROM:+0100
TZOFFSETTO:+0200
TZNAME:CEST
END:DAYLIGHT
END:VTIMEZONE
END:VCALENDAR