BEGIN:VCALENDAR
VERSION:2.0
PRODID:-//wp-events-plugin.com//6.6.1//EN
TZID:Europe/Paris
X-WR-TIMEZONE:Europe/Paris
BEGIN:VEVENT
UID:219@csbe.fr
DTSTART;TZID=Europe/Paris:20250831T093000
DTEND;TZID=Europe/Paris:20250831T120000
DTSTAMP:20250828T155711Z
URL:https://csbe.fr/events/plongee-carriere/
SUMMARY:Plongée Carrière
DESCRIPTION:	- RDV à la carrière  ==&gt\; 9H30\n\nPlongée prévue à la 
 carrière de Questembert. Cette plongée est ouverte à tous les niveaux (
 sous réserve d'avoir assez d'encadrant).\n\n\n						
CATEGORIES:Plongée Formation
END:VEVENT
BEGIN:VTIMEZONE
TZID:Europe/Paris
X-LIC-LOCATION:Europe/Paris
BEGIN:DAYLIGHT
DTSTART:20250330T030000
TZOFFSETFROM:+0100
TZOFFSETTO:+0200
TZNAME:CEST
END:DAYLIGHT
END:VTIMEZONE
END:VCALENDAR