BEGIN:VCALENDAR
VERSION:2.0
PRODID:-//wp-events-plugin.com//6.6.1//EN
TZID:Europe/Paris
X-WR-TIMEZONE:Europe/Paris
BEGIN:VEVENT
UID:206@csbe.fr
DTSTART;TZID=Europe/Paris:20250629T093000
DTEND;TZID=Europe/Paris:20250629T144500
DTSTAMP:20250627T193048Z
URL:https://csbe.fr/events/plongee-baie-de-quiberon-l-artiglio/
SUMMARY:Plongée carrière quilly
DESCRIPTION:- RDV ==&gt\; 9h30 carrière\n\nPlongée prévue en carrière.\
 n\nPrevoir double detendeur.\n\nCette plongée est ouverte formations n2 e
 t n3 + autonomes
CATEGORIES:Plongée Formation
END:VEVENT
BEGIN:VTIMEZONE
TZID:Europe/Paris
X-LIC-LOCATION:Europe/Paris
BEGIN:DAYLIGHT
DTSTART:20250330T030000
TZOFFSETFROM:+0100
TZOFFSETTO:+0200
TZNAME:CEST
END:DAYLIGHT
END:VTIMEZONE
END:VCALENDAR